{"text_format":"1","workbook":"xlsx","n_sheets":4,"sheets":["Hoja1","hoja de captura","matriz","Resultados"],"not_rendered":{"charts":1,"images":0,"macros":1,"external_links":0,"defined_names":2,"comments":0,"pivot_tables":0},"unopened":[],"bounds":{"document_bytes":16777216,"sheet_cells":100000,"rows_first":2000,"rows_last":500,"rows_between":2000,"halvings":0,"cell_chars":16384,"cell_head_chars":4096},"cells_cut":0,"cells_raw":0,"read":"whole","date_system":"1900"}

{"sheet":"Hoja1","index":0,"n_rows":0,"n_cols":0,"rows_kept":0,"cut":false,"hidden":false,"merged":[]}

{"sheet":"hoja de captura","index":1,"n_rows":43,"n_cols":53,"rows_kept":43,"cut":false,"hidden":false,"merged":[]}
[]
[]
[]
[]
[]
[]
[null,null,1,null,null,null,null,null,null,{"$f":"C7+25","v":26},null,null,null,null,null,null,{"$f":"J7+25","v":51},null,null,null,null,null,null,{"$f":"Q7+25","v":76},null,null,null,null,null,{"$f":"X7+25","v":101},null,null,null,null,null,{"$f":"AD7+25","v":126},null,null,null,null,null,{"$f":"AJ7+25","v":151},null,null,null,null,null,{"$f":"AP7+25","v":176}]
[null,null,2,null,null,null,null,null,null,{"$f":"C8+25","v":27},null,null,null,null,null,null,{"$f":"J8+25","v":52},null,null,null,null,null,null,{"$f":"Q8+25","v":77},null,null,null,null,null,{"$f":"X8+25","v":102},null,null,null,null,null,{"$f":"AD8+25","v":127},null,null,null,null,null,{"$f":"AJ8+25","v":152},null,null,null,null,null,{"$f":"AP8+25","v":177}]
[null,null,3,null,null,null,null,null,null,28,null,null,null,null,null,null,53,null,null,null,null,null,null,78,null,null,null,null,null,103,null,null,null,null,null,128,null,null,null,null,null,153,null,null,null,null,null,{"$f":"AP9+25","v":178}]
[null,null,4,null,null,null,null,null,null,29,null,null,null,null,null,null,54,null,null,null,null,null,null,79,null,null,null,null,null,104,null,null,null,null,null,129,null,null,null,null,null,154,null,null,null,null,null,{"$f":"AP10+25","v":179}]
[null,null,5,null,null,null,null,null,null,30,null,null,null,null,null,null,55,null,null,null,null,null,null,80,null,null,null,null,null,105,null,null,null,null,null,130,null,null,null,null,null,155,null,null,null,null,null,{"$f":"AP11+25","v":180}]
[]
[]
[null,null,6,null,null,null,null,null,null,31,null,null,null,null,null,null,56,null,null,null,null,null,null,81,null,null,null,null,null,106,null,null,null,null,null,131,null,null,null,null,null,156,null,null,null,null,null,{"$f":"AP14+25","v":181}]
[null,null,7,null,null,null,null,null,null,32,null,null,null,null,null,null,57,null,null,null,null,null,null,82,null,null,null,null,null,107,null,null,null,null,null,132,null,null,null,null,null,157,null,null,null,null,null,{"$f":"AP15+25","v":182}]
[null,null,8,null,null,null,null,null,null,33,null,null,null,null,null,null,58,null,null,null,null,null,null,83,null,null,null,null,null,108,null,null,null,null,null,133,null,null,null,null,null,158,null,null,null,null,null,183]
[null,null,9,null,null,null,null,null,null,34,null,null,null,null,null,null,59,null,null,null,null,null,null,84,null,null,null,null,null,109,null,null,null,null,null,134,null,null,null,null,null,159,null,null,null,null,null,184]
[null,null,10,null,null,null,null,null,null,35,null,null,null,null,null,null,60,null,null,null,null,null,null,85,null,null,null,null,null,110,null,null,null,null,null,135,null,null,null,null,null,160,null,null,null,null,null,185]
[]
[]
[null,null,11,null,null,null,null,null,null,36,null,null,null,null,null,null,61,null,null,null,null,null,null,86,null,null,null,null,null,111,null,null,null,null,null,136,null,null,null,null,null,161,null,null,null,null,null,186]
[null,null,12,null,null,null,null,null,null,37,null,null,null,null,null,null,62,null,null,null,null,null,null,87,null,null,null,null,null,112,null,null,null,null,null,137,null,null,null,null,null,162,null,null,null,null,null,187]
[null,null,13,null,null,null,null,null,null,38,null,null,null,null,null,null,63,null,null,null,null,null,null,88,null,null,null,null,null,113,null,null,null,null,null,138,null,null,null,null,null,163]
[null,null,14,null,null,null,null,null,null,39,null,null,null,null,null,null,64,null,null,null,null,null,null,89,null,null,null,null,null,114,null,null,null,null,null,139,null,null,null,null,null,164]
[null,null,15,null,null,null,null,null,null,40,null,null,null,null,null,null,65,null,null,null,null,null,null,90,null,null,null,null,null,115,null,null,null,null,null,140,null,null,null,null,null,165]
[]
[]
[null,null,16,null,null,null,null,null,null,41,null,null,null,null,null,null,66,null,null,null,null,null,null,91,null,null,null,null,null,116,null,null,null,null,null,141,null,null,null,null,null,166]
[null,null,17,null,null,null,null,null,null,42,null,null,null,null,null,null,67,null,null,null,null,null,null,92,null,null,null,null,null,117,null,null,null,null,null,142,null,null,null,null,null,167]
[null,null,18,null,null,null,null,null,null,43,null,null,null,null,null,null,68,null,null,null,null,null,null,93,null,null,null,null,null,118,null,null,null,null,null,143,null,null,null,null,null,168]
[null,null,19,null,null,null,null,null,null,44,null,null,null,null,null,null,69,null,null,null,null,null,null,94,null,null,null,null,null,119,null,null,null,null,null,144,null,null,null,null,null,169]
[null,null,20,null,null,null,null,null,null,45,null,null,null,null,null,null,70,null,null,null,null,null,null,95,null,null,null,null,null,120,null,null,null,null,null,145,null,null,null,null,null,170]
[]
[]
[null,null,21,null,null,null,null,null,null,46,null,null,null,null,null,null,71,null,null,null,null,null,null,96,null,null,null,null,null,121,null,null,null,null,null,146,null,null,null,null,null,171]
[null,null,22,null,null,null,null,null,null,47,null,null,null,null,null,null,72,null,null,null,null,null,null,97,null,null,null,null,null,122,null,null,null,null,null,147,null,null,null,null,null,172]
[null,null,23,null,null,null,null,null,null,48,null,null,null,null,null,null,73,null,null,null,null,null,null,98,null,null,null,null,null,123,null,null,null,null,null,148,null,null,null,null,null,173]
[null,null,24,null,null,null,null,null,null,49,null,null,null,null,null,null,74,null,null,null,null,null,null,99,null,null,null,null,null,124,null,null,null,null,null,149,null,null,null,null,null,174]
[null,null,25,null,null,null,null,null,null,50,null,null,null,null,null,null,75,null,null,null,null,null,null,100,null,null,null,null,null,125,null,null,null,null,null,150,null,null,null,null,null,175]
[null,null,null,null,null,null,null,null,null,null,null,null,null,null,null,null,null,null,null,null,null,null,null,null,null,null,null,null,null,null,null,null,null,null,null,null,null,null,null,null,null,null,null,null,null,null,null,null,null,null,null,null,1]
[]
[]
[null,null,null,null,null,null,null,null,null,null,null,null,null,null,null,1]

{"sheet":"matriz","index":2,"n_rows":88,"n_cols":64,"rows_kept":88,"cut":false,"hidden":false,"merged":[[62,1,63,1]]}
[]
[]
[null,null,null,null,false]
[]
[null,"A","B","C",null,null,"A","B","C",null,null,"A","B","C",null,null,"A","B","C",null,null,"A","B","C",null,null,"A","B","C",null,null,"A","B","C",null,null,"A","B","C"]
[1,false,false,false,null,{"$f":"A6+25","v":26},false,false,false,null,{"$f":"F6+25","v":51},false,false,false,null,{"$f":"K6+25","v":76},false,false,false,null,{"$f":"P6+25","v":101},false,false,false,null,{"$f":"U6+25","v":126},false,false,false,null,{"$f":"Z6+25","v":151},false,false,false,null,{"$f":"AE6+25","v":176},false,false,false]
[0,false,false,false,null,{"$f":"A7+25","v":25},false,false,false,null,{"$f":"F7+25","v":50},false,false,false,null,77,false,false,false,null,{"$f":"P7+25","v":102},false,false,false,null,{"$f":"U7+25","v":127},false,false,false,null,{"$f":"Z7+25","v":152},false,false,false,null,177,false,false,false]
[3,false,false,false,null,28,false,false,false,null,53,false,false,false,null,{"$f":"K8+25","v":78},false,false,false,null,103,false,false,false,null,128,false,false,false,null,153,false,false,false,null,178,false,false,false]
[4,false,false,false,null,29,false,false,false,null,54,false,false,false,null,79,false,false,false,null,104,false,false,false,null,129,false,false,false,null,154,false,false,false,null,179,false,false,false]
[5,false,false,false,null,30,false,false,false,null,55,false,false,false,null,80,false,false,false,null,105,false,false,false,null,130,false,false,false,null,155,false,false,false,null,180,false,false,false]
[]
[6,false,false,false,null,31,false,false,false,null,56,false,false,false,null,81,false,false,false,null,106,false,false,false,null,131,false,false,false,null,156,false,false,false,null,181,false,false,false]
[7,false,false,false,null,32,false,false,false,null,57,false,false,false,null,82,false,false,false,null,107,false,false,false,null,132,false,false,false,null,157,false,false,false,null,182,false,false,false]
[8,false,false,false,null,33,false,false,false,null,58,false,false,false,null,83,false,false,false,null,108,false,false,false,null,133,false,false,false,null,158,false,false,false,null,183,false,false,false]
[9,false,false,false,null,34,false,false,false,null,59,false,false,false,null,84,false,false,false,null,109,false,false,false,null,134,false,false,false,null,159,false,false,false,null,184,false,false,false]
[10,false,false,false,null,35,false,false,false,null,60,false,false,false,null,85,false,false,false,null,110,false,false,false,null,135,false,false,false,null,160,false,false,false,null,185,false,false,false]
[]
[11,false,false,false,null,36,false,false,false,null,61,false,false,false,null,86,false,false,false,null,111,false,false,false,null,136,false,false,false,null,161,false,false,false,null,186,false,false,false]
[12,false,false,false,null,37,false,false,false,null,62,false,false,false,null,87,false,false,false,null,112,false,false,false,null,137,false,false,false,null,162,false,false,false,null,187,false,false,false]
[13,false,false,false,null,38,false,false,false,null,63,false,false,false,null,88,false,false,false,null,113,false,false,false,null,138,false,false,false,null,163,false,false,false]
[14,false,false,false,null,39,false,false,false,null,64,false,false,false,null,89,false,false,false,null,114,false,false,false,null,139,false,false,false,null,164,false,false,false]
[15,false,false,false,null,40,false,false,false,null,65,false,false,false,null,90,false,false,false,null,115,false,false,false,null,140,false,false,false,null,165,false,false,false]
[]
[16,false,false,false,null,41,false,false,false,null,66,false,false,false,null,91,false,false,false,null,116,false,false,false,null,141,false,false,false,null,166,false,false,false]
[17,false,false,false,null,42,false,false,false,null,67,false,false,false,null,92,false,false,false,null,117,false,false,false,null,142,false,false,false,null,167,false,false,false]
[18,false,false,false,null,43,false,false,false,null,68,false,false,false,null,93,false,false,false,null,118,false,false,false,null,143,false,false,false,null,168,false,false,false]
[19,false,false,false,null,44,false,false,false,null,69,false,false,false,null,94,false,false,false,null,119,false,false,false,null,144,false,false,false,null,169,false,false,false]
[20,false,false,false,null,45,false,false,false,null,70,false,false,false,null,95,false,false,false,null,120,false,false,false,null,145,false,false,false,null,170,false,false,false]
[]
[21,false,false,false,null,46,false,false,false,null,71,false,false,false,null,96,false,false,false,null,121,false,false,false,null,146,false,false,false,null,171,false,false,false]
[22,false,false,false,null,47,false,false,false,null,72,false,false,false,null,97,false,false,false,null,122,false,false,false,null,147,false,false,false,null,172,false,false,false]
[23,false,false,false,null,48,false,false,false,null,73,false,false,false,null,98,false,false,false,null,123,false,false,false,null,148,false,false,false,null,173,false,false,false]
[24,false,false,false,null,49,false,false,false,null,74,false,false,false,null,99,false,false,false,null,124,false,false,false,null,149,false,false,false,null,174,false,false,false]
[25,false,false,false,null,50,false,false,false,null,75,false,false,false,null,100,false,false,false,null,125,false,false,false,null,150,false,false,false,null,175,false,false,false]
[]
[]
[null,"FACTOR A ",null,null,null,"Factor C",null,null,"Factor F",null,null,null,"Factor H",null,null,null,"Factor L",null,null,null,"Factor Q1",null,null,null,"Factor Q3",null,null,null,"Factor B",null,null,null,"Factor E",null,null,null,"Factor G",null,null,null,"Factor I",null,null,null,"Factor M",null,null,null,"Factor O",null,null,null,"Factor Q2",null,null,null,"Factor Q4",null,null,null,"Factor N"]
["PU","#PR","VAL","VALCOMP","PU","#PR","VAL","VALCOMP","PU","#PR","VAL","VALCOMP","PU","#PR","VAL","VALCOMP","PU","#PR",null,"VALCOMP","PU","#PR","VAL","VALCOMP","PU","#PR","VAL","VALCOMP","PU","#PR","VAL","VALCOMP","PU","#PR","VAL","VALCOMP","PU","#PR","VAL","VALCOMP","PU","#PR","VAL","VALCOMP","PU","#PR","VAL","VALCOMP","PU","#PR","VAL","VALCOMP","PU","#PR","VAL","VALCOMP","PU","#PR","VAL","VALCOMP","PU","#PR","VAL","VALCOMP"]
[2,"3a",{"$f":"IF(B8=D39,2,0)","v":0},true,2,"4a",{"$f":"IF(B9=H39,2,0)","v":0},true,1,"8b",{"$f":"IF(C14=L39,1,0)","v":0},true,2,"10a",{"$f":"IF(B16=P39,2,0)","v":0},true,1,"13b",{"$f":"IF(C20=T39,1,0)","v":0},true,2,"20a",{"$f":"IF(B28=X39,2,0)","v":0},true,1,"23b",{"$f":"IF(C32=AB39,1,0)","v":0},true,1,"28b",{"$f":"IF(H8=AF39,1,0)","v":0},true,1,"6b",{"$f":"IF(C12=AJ39,1,0)","v":0},true,1,"9b",{"$f":"IF(C15=AN39,1,0)","v":0},true,1,"11b",{"$f":"IF(C18=AR39,1,0)","v":0},true,1,"14b",{"$f":"IF(C21=AV39,1,0)","v":0},true,2,"18a",{"$f":"IF(B26=AZ39,2,0)","v":0},true,1,"22b",{"$f":"IF(C31=BD39,1,0)","v":0},true,1,"25b",{"$f":"IF(C34=BH39,1,0)","v":0},true,1,"16b",{"$f":"IF(C24=BL39,1,0)","v":0},true]
[1,"3b",{"$f":"IF(C8=D40,1,0)","v":0},true,1,"4b",{"$f":"IF(C90=H40,1,0)","v":0},true,2,"8c",{"$f":"IF(D14=L40,2,0)","v":0},true,1,"10b",{"$f":"IF(C16=P40,1,0)","v":0},true,2,"13c",{"$f":"IF(D20=T40,2,0)","v":0},true,1,"20b",{"$f":"IF(C30=X40,1,0)","v":0},true,2,"23c",{"$f":"IF(D32=AB40,2,0)","v":0},true,1,"53b",{"$f":"IF(M8=AF40,1,0)","v":0},true,2,"6c",{"$f":"IF(D12=AJ40,2,0)","v":0},true,2,"9c",{"$f":"IF(D15=AN40,2,0)","v":0},true,2,"11c",{"$f":"IF(D18=AR40,2,0)","v":0},true,2,"14c",{"$f":"IF(D21=AV40,2,0)","v":0},true,1,"18b",{"$f":"IF(C26=AZ40,1,0)","v":0},true,2,"22c",{"$f":"IF(D31=BD40,2,0)","v":0},true,2,"25c",{"$f":"IF(D34=BH40,2,0)","v":0},true,2,"16c",{"$f":"IF(D24=BL40,2,0)","v":0},true]
[1,"26b",{"$f":"IF(H6=D41,1,0)","v":0},true,1,"5b",{"$f":"IF(C10=H41,1,0)","v":0},true,2,"33a",{"$f":"IF(G14=L41,2,0)","v":0},true,1,"35b",{"$f":"IF(H16=P41,1,0)","v":0},true,2,"38A",{"$f":"IF(G20=T41,2,0)","v":0},true,1,"21b",{"$f":"IF(C30=X41,1,0)","v":0},true,1,"24b",{"$f":"IF(C33=AB41,1,0)","v":0},true,1,"54b",{"$f":"IF(M9=AF41,1,0)","v":0},true,2,"7a",{"$f":"IF(B13=AJ41,2,0)","v":0},true,1,"34b",{"$f":"IF(H15=AN41,1,0)","v":0},true,2,"12a",{"$f":"IF(B19=AR41,2,0)","v":0},true,1,"15b",{"$f":"IF(C22=AV41,1,0)","v":0},true,1,"19b",{"$f":"IF(C27=AZ41,1,0)","v":0},true,2,"47a",{"$f":"IF(G31=BD41,2,0)","v":0},true,2,"49a",{"$f":"IF(G33=BH41,2,0)","v":0},true,2,"17a",{"$f":"IF(B25=BL41,2,0)","v":0},true]
[2,"26c",{"$f":"IF(I6=D42,2,0)","v":0},true,2,"5c",{"$f":"IF(D10=H42,2,0)","v":0},true,1,"33b",{"$f":"IF(H14=L42,1,0)","v":0},true,2,"35c",{"$f":"IF(I16=P42,2,0)","v":0},true,1,"38B",{"$f":"IF(H20=T42,1,0)","v":0},true,2,"21c",{"$f":"IF(D30=X42,2,0)","v":0},true,2,"24c",{"$f":"IF(D33=AB42,2,0)","v":0},true,1,"77c",{"$f":"IF(S7=AF42,1,0)","v":0},true,1,"7b",{"$f":"IF(C13=AJ42,1,0)","v":0},true,2,"34c",{"$f":"IF(I15=AN42,2,0)","v":0},true,1,"12b",{"$f":"IF(C19=AR42,1,0)","v":0},true,2,"15c",{"$f":"IF(D22=AV42,2,0)","v":0},true,2,"19c",{"$f":"IF(D26=AZ42,2,0)","v":0},true,1,"47b",{"$f":"IF(H31=BD42,1,0)","v":0},true,1,"49b",{"$f":"IF(H33=BH42,1,0)","v":0},true,1,"17b",{"$f":"IF(C25=BL42,1,0)","v":0},true]
[1,"27b",{"$f":"IF(H7=D43,1,0)","v":0},true,1,"29b",{"$f":"IF(H9=H43,1,0)","v":0},true,1,"58a",{"$f":"IF(L14=L43,1,0)","v":0},true,2,"36a",{"$f":"IF(G18=P43,2,0)","v":0},true,1,"63b",{"$f":"IF(M20=T43,1,0)","v":0},true,1,"45b",{"$f":"IF(H28=X43,1,0)","v":0},true,2,"48a",{"$f":"IF(G32=AB43,2,0)","v":0},true,1,"78b",{"$f":"IF(R8=AF43,1,0)","v":0},true,1,"31b",{"$f":"IF(H12=AJ43,2,0)","v":0},true,1,"59b",{"$f":"IF(M15=AN43,1,0)","v":0},true,2,"37a",{"$f":"IF(G19=AR43,2,0)","v":0},true,2,"39a",{"$f":"IF(G21=AV43,2,0)","v":0},true,2,"43a",{"$f":"IF(G26=AZ43,2,0)","v":0},true,2,"71a",{"$f":"IF(L30=BD43,2,0)","v":0},true,2,"50a",{"$f":"IF(G34=BH43,2,0)","v":0},true,1,"41b",{"$f":"IF(H24=BL43,1,0)","v":0},true]
[2,"27c",{"$f":"IF(I7=D44,2,0)","v":0},true,2,"29c",{"$f":"IF(I9=H44,2,0)","v":0},true,2,"58b",{"$f":"IF(M14=L44,2,0)","v":0},true,1,"36b",{"$f":"IF(H18=P44,1,0)","v":0},true,2,"63c",{"$f":"IF(M20=T44,2,0)","v":0},true,2,"45c",{"$f":"IF(I28=X44,2,0)","v":0},true,1,"48b",{"$f":"IF(H32=AB44,1,0)","v":0},true,1,"102b",{"$f":"IF(W7=AF44,1,0)","v":0},true,2,"31c",{"$f":"IF(I12=AJ44,2,0)","v":0},true,2,"59c",{"$f":"IF(N15=AN44,2,0)","v":0},true,1,"37b",{"$f":"IF(H19=AR44,1,0)","v":0},true,1,"39b",{"$f":"IF(H21=AV44,1,0)","v":0},true,1,"43b",{"$f":"IF(H26=AZ44,1,0)","v":0},true,1,"71b",{"$f":"IF(M30=BD44,1,0)","v":0},true,1,"50b",{"$f":"IF(H34=BH44,1,0)","v":0},true,2,"41c",{"$f":"IF(I24=BL44,2,0)","v":0},true]
[1,"51b",{"$f":"IF(M6=D45,1,0)","v":0},true,2,"30a",{"$f":"IF(G10=H45,2,0)","v":0},true,1,"82b",{"$f":"IF(R13=L45,1,0)","v":0},true,1,"60B",{"$f":"IF(M16=P45,1,0)","v":0},true,1,"64b",{"$f":"IF(M21=T45,1,0)","v":0},true,2,"46a",{"$f":"IF(G30=X45,2,0)","v":0},true,2,"73a",{"$f":"IF(L32=AB45,2,0)","v":0},true,1,"103b",{"$f":"IF(W8=AF45,1,0)","v":0},true,1,"32b",{"$f":"IF(H13=AJ45,1,0)","v":0},true,1,"84b",{"$f":"IF(R15=AN45,1,0)","v":0},true,1,"62b",{"$f":"IF(M19=AR45,1,0)","v":0},true,2,"40a",{"$f":"IF(G22=AV45,2,0)","v":0},true,1,"44b",{"$f":"IF(H27=AZ45,1,0)","v":0},true,2,"72a",{"$f":"IF(L31=BD45,2,0)","v":0},true,2,"74a",{"$f":"IF(L33=BH45,2,0)","v":0},true,2,"42a",{"$f":"IF(G25=BL45,2,0)","v":0},true]
[2,"51c",{"$f":"IF(N6=D46,2,0)","v":0},true,1,"30b",{"$f":"IF(H10=H46,1,0)","v":0},true,2,"82c",{"$f":"IF(S13=L46,2,0)","v":0},true,2,"60C",{"$f":"IF(N16=P46,2,0)","v":0},true,2,"64c",{"$f":"IF(N21=T46,2,0)","v":0},true,1,"46b",{"$f":"IF(H30=X46,1,0)","v":0},true,1,"73b",{"$f":"IF(M32=AB46,1,0)","v":0},true,1,"127c",{"$f":"IF(AC7=AF46,1,0)","v":0},true,2,"32c",{"$f":"IF(I13=AJ46,2,0)","v":0},true,2,"84c",{"$f":"IF(S15=AN46,2,0)","v":0},true,2,"62c",{"$f":"IF(N19=AR46,2,0)","v":0},true,1,"40b",{"$f":"IF(H22=AV46,1,0)","v":0},true,2,"44c",{"$f":"IF(I27=AZ46,2,0)","v":0},true,1,"72b",{"$f":"IF(M31=BD46,1,0)","v":0},true,1,"74b",{"$f":"IF(M33=BH46,1,0)","v":0},true,1,"42b",{"$f":"IF(H25=BL46,1,0)","v":0},true]
[2,"52a",{"$f":"IF(L7=D47,2,0)","v":0},true,2,"55A",{"$f":"IF(L10=H47,2,0)","v":0},true,2,"83a",{"$f":"IF(Q14=L47,2,0)","v":0},true,1,"61b",{"$f":"IF(M18=P47,1,0)","v":0},true,2,"88a",{"$f":"IF(Q20=T47,2,0)","v":0},true,2,"70a",{"$f":"IF(L28=X47,2,0)","v":0},true,2,"98a",{"$f":"IF(Q32=AB47,2,0)","v":0},true,1,"128b",{"$f":"IF(AB8=AF47,1,0)","v":0},true,2,"56a",{"$f":"IF(L12=AJ47,2,0)","v":0},true,2,"109a",{"$f":"IF(V15=AN47,2,0)","v":0},true,1,"87b",{"$f":"IF(R19=AR47,1,0)","v":0},true,1,"65a",{"$f":"IF(L22=AV47,1,0)","v":0},true,1,"68b",{"$f":"IF(M26=AZ47,1,0)","v":0},true,1,"96b",{"$f":"IF(R30=BD47,1,0)","v":0},true,1,"75b",{"$f":"IF(M34=BH47,1,0)","v":0},true,1,"66b",{"$f":"IF(M24=BL47,1,0)","v":0},true]
[1,"52b",{"$f":"IF(M7=D48,1,0)","v":0},true,1,"55B",{"$f":"IF(M10=H48,1,0)","v":0},true,1,"83b",{"$f":"IF(R14=L48,1,0)","v":0},true,2,"61c",{"$f":"IF(N18=P48,2,0)","v":0},true,1,"88b",{"$f":"IF(R20=T48,1,0)","v":0},true,1,"70b",{"$f":"IF(M27=X48,1,0)","v":0},true,1,"98b",{"$f":"IF(R32=AB48,1,0)","v":0},true,1,"152a",{"$f":"IF(AF7=AF48,1,0)","v":0},true,1,"56b",{"$f":"IF(H18=AJ48,1,0)","v":0},true,1,"109b",{"$f":"IF(W15=AN48,1,0)","v":0},true,2,"87c",{"$f":"IF(S19=AR48,2,0)","v":0},true,2,"65b",{"$f":"IF(M22=AV48,2,0)","v":0},true,2,"68c",{"$f":"IF(N26=AZ48,2,0)","v":0},true,2,"96c",{"$f":"IF(S30=BD48,2,0)","v":0},true,2,"75c",{"$f":"IF(N34=BH48,2,0)","v":0},true,2,"66c",{"$f":"IF(N24=BL48,2,0)","v":0},true]
[1,"76b",{"$f":"IF(R6=D49,1,0)","v":0},true,1,"79b",{"$f":"IF(R9=H49,1,0)","v":0},true,1,"107b",{"$f":"IF(W13=L49,1,0)","v":0},true,1,"85b",{"$f":"IF(G24=P49,1,0)","v":0},true,1,"89b",{"$f":"IF(R21=T49,1,0)","v":0},true,1,"95b",{"$f":"IF(R28=X49,1,0)","v":0},true,1,"123B",{"$f":"IF(W32=AB49,1,0)","v":0},true,1,"153c",{"$f":"IF(AH8=AF49,1,0)","v":0},true,1,"57b",{"$f":"IF(M13=AJ49,1,0)","v":0},true,2,"134A",{"$f":"IF(AA15=AN49,2,0)","v":0},true,2,"112a",{"$f":"IF(V19=AR49,2,0)","v":0},true,1,"90b",{"$f":"IF(R22=AV49,1,0)","v":0},true,2,"69a",{"$f":"IF(L27=AZ49,2,0)","v":0},true,1,"97b",{"$f":"IF(R31=BD49,1,0)","v":0},true,2,"99a",{"$f":"IF(Q33=BH49,2,0)","v":0},true,1,"67b",{"$f":"IF(M25=BL49,1,0)","v":0},true]
[2,"76c",{"$f":"IF(S6=D50,2,0)","v":0},true,2,"79c",{"$f":"IF(S9=H50,2,0)","v":0},true,2,"107c",{"$f":"IF(X13=L50,2,0)","v":0},true,2,"85c",{"$f":"IF(G25=P50,2,0)","v":0},true,2,"89c",{"$f":"IF(S21=T50,2,0)","v":0},true,2,"95c",{"$f":"IF(S28=X50,2,0)","v":0},true,2,"123C",{"$f":"IF(X32=AB50,2,0)","v":0},true,1,"177a",{"$f":"IF(AK7=AF50,1,0)","v":0},true,2,"57c",{"$f":"IF(N13=AJ50,2,0)","v":0},true,1,"134B",{"$f":"IF(AB15=AN50,1,0)","v":0},true,1,"112b",{"$f":"IF(W19=AR50,1,0)","v":0},true,2,"90c",{"$f":"IF(S22=AV50,2,0)","v":0},true,1,"69b",{"$f":"IF(M27=AZ50,1,0)","v":0},true,2,"97c",{"$f":"IF(S31=BD50,2,0)","v":0},true,1,"99b",{"$f":"IF(R33=BH50,1,0)","v":0},true,2,"67c",{"$f":"IF(N25=BL50,2,0)","v":0},true]
[2,"101a",{"$f":"IF(V6=D51,2,0)","v":0},true,1,"80b",{"$f":"IF(R10=H51,1,0)","v":0},true,1,"108b",{"$f":"IF(W14=L51,1,0)","v":0},true,1,"86b",{"$f":"IF(G26=P51,1,0)","v":0},true,2,"113a",{"$f":"IF(V20=T51,2,0)","v":0},true,1,"120B",{"$f":"IF(W28=X51,1,0)","v":0},true,1,"147b",{"$f":"IF(AB31=AB51,1,0)","v":0},true,1,"178a",{"$f":"IF(AK8=AF51,1,0)","v":0},true,1,"81b",{"$f":"IF(R12=AJ51,1,0)","v":0},true,1,"159b",{"$f":"IF(AG15=AN51,1,0)","v":0},true,1,"137b",{"$f":"IF(AB19=AR51,1,0)","v":0},true,2,"91a",{"$f":"IF(Q24=AV51,2,0)","v":0},true,1,"93b",{"$f":"IF(R26=AZ51,1,0)","v":0},true,1,"121b",{"$f":"IF(W30=BD51,1,0)","v":0},true,1,"100a",{"$f":"IF(Q34=BH51,1,0)","v":0},true,1,"92b",{"$f":"IF(R25=BL51,1,0)","v":0},true]
[1,"101b",{"$f":"IF(W6=D52,1,0)","v":0},true,2,"80c",{"$f":"IF(S10=H52,2,0)","v":0},true,2,"108c",{"$f":"IF(X14=L52,2,0)","v":0},true,2,"86c",{"$f":"IF(G27=P52,2,0)","v":0},true,1,"113b",{"$f":"IF(W20=T52,1,0)","v":0},true,2,"120C",{"$f":"IF(X28=X52,2,0)","v":0},true,2,"147c",{"$f":"IF(AC31=AB52,2,0)","v":0},true,null,{"$f":"AC37","v":"Factor B"},{"$f":"SUM(AE39:AE51)","v":0},null,2,"81c",{"$f":"IF(S12=AJ52,2,0)","v":0},true,2,"159c",{"$f":"IF(AH15=AN52,2,0)","v":0},true,2,"137c",{"$f":"IF(AC19=AR52,2,0)","v":0},true,1,"91b",{"$f":"IF(R24=AV52,1,0)","v":0},true,2,"93c",{"$f":"IF(S26=AZ52,2,0)","v":0},true,2,"121c",{"$f":"IF(X30=BD52,2,0)","v":0},true,2,"100b",{"$f":"IF(R34=BH52,2,0)","v":0},true,2,"92c",{"$f":"IF(S25=BL52,2,0)","v":0},true]
[2,"126a",{"$f":"IF(AA6=D53,2,0)","v":0},true,2,"104a",{"$f":"IF(V9=H53,2,0)","v":0},true,2,"132a",{"$f":"IF(AA13=L53,2,0)","v":0},true,2,"110a",{"$f":"IF(G28=P53,2,0)","v":0},true,2,"114a",{"$f":"IF(V21=T53,2,0)","v":0},true,2,"145a",{"$f":"IF(AA28=X53,2,0)","v":0},true,2,"148a",{"$f":"IF(AA32=AB53,2,0)","v":0},true,null,null,null,null,1,"106b",{"$f":"IF(W12=AJ53,1,0)","v":0},true,2,"160a",{"$f":"IF(AF16=AN53,2,0)","v":0},true,2,"138a",{"$f":"IF(AA20=AR53,2,0)","v":0},true,2,"115a",{"$f":"IF(V22=AV53,2,0)","v":0},true,2,"94a",{"$f":"IF(Q27=AZ53,2,0)","v":0},true,1,"122b",{"$f":"IF(W31=BD53,1,0)","v":0},true,2,"124a",{"$f":"IF(V33=BH53,2,0)","v":0},true,2,"117a",{"$f":"IF(V25=BL53,2,0)","v":0},true]
[1,"126b",{"$f":"IF(AB6=D54,1,0)","v":0},true,1,"104b",{"$f":"IF(W9=H54,1,0)","v":0},true,1,"132b",{"$f":"IF(AB13=L54,1,0)","v":0},true,1,"110b",{"$f":"IF(G29=P54,1,0)","v":0},true,1,"114b",{"$f":"IF(W21=T54,1,0)","v":0},true,1,"145b",{"$f":"IF(AB28=X54,1,0)","v":0},true,1,"148b",{"$f":"IF(AB32=AB54,1,0)","v":0},true,null,null,null,null,2,"106c",{"$f":"IF(X12=AJ54,2,0)","v":0},true,1,"160b",{"$f":"IF(AG16=AN54,1,0)","v":0},true,1,"138b",{"$f":"IF(AB20=AR54,1,0)","v":0},true,1,"115b",{"$f":"IF(W22=AV54,1,0)","v":0},true,1,"94b",{"$f":"IF(R27=AZ54,1,0)","v":0},true,2,"122c",{"$f":"IF(X31=BD54,2,0)","v":0},true,1,"124b",{"$f":"IF(W33=BH54,1,0)","v":0},true,1,"117b",{"$f":"IF(W25=BL54,1,0)","v":0},true]
[1,"151b",{"$f":"IF(AG6=D55,1,0)","v":0},true,2,"105a",{"$f":"IF(V10=H55,2,0)","v":0},true,2,"133a",{"$f":"IF(AA14=L55,2,0)","v":0},true,2,"111a",{"$f":"IF(V18=P55,2,0)","v":0},true,1,"139b",{"$f":"IF(AB21=T55,1,0)","v":0},true,2,"169a",{"$f":"IF(AF27=X55,2,0)","v":0},true,1,"172b",{"$f":"IF(AG31=AB55,1,0)","v":0},true,null,null,null,null,2,"131a",{"$f":"IF(AA12=AJ55,2,0)","v":0},true,2,"184a",{"$f":"IF(AK15=AN55,2,0)","v":0},true,1,"162b",{"$f":"IF(AG19=AR55,1,0)","v":0},true,2,"116a",{"$f":"IF(V24=AV55,2,0)","v":0},true,2,"118a",{"$f":"IF(V26=AZ55,2,0)","v":0},true,2,"146a",{"$f":"IF(AA30=BD55,2,0)","v":0},true,1,"125b",{"$f":"IF(W34=BH55,1,0)","v":0},true,2,"142a",{"$f":"IF(AA25=BL55,2,0)","v":0},true]
[2,"151c",{"$f":"IF(AH6=D56,2,0)","v":0},true,1,"105b",{"$f":"IF(W10=H56,1,0)","v":0},true,1,"133b",{"$f":"IF(AB14=L56,1,0)","v":0},true,1,"111b",{"$f":"IF(W18=P56,1,0)","v":0},true,2,"139c",{"$f":"IF(AC21=T56,2,0)","v":0},true,1,"169b",{"$f":"IF(AG27=X56,1,0)","v":0},true,2,"172c",{"$f":"IF(AH31=AB56,2,0)","v":0},true,null,null,null,null,1,"131b",{"$f":"IF(AB12=AJ56,1,0)","v":0},true,1,"184b",{"$f":"IF(AL15=AN56,1,0)","v":0},true,2,"162c",{"$f":"IF(AH19=AR56,2,0)","v":0},true,1,"116b",{"$f":"IF(W24=AV56,1,0)","v":0},true,1,"118b",{"$f":"IF(W26=AZ56,1,0)","v":0},true,1,"146b",{"$f":"IF(AB30=BD56,1,0)","v":0},true,2,"125c",{"$f":"IF(X34=BH56,2,0)","v":0},true,1,"142b",{"$f":"IF(AB25=BL56,1,0)","v":0},true]
[2,"176a",{"$f":"IF(AK6=D57,2,0)","v":0},true,1,"129b",{"$f":"IF(AB9=H57,1,0)","v":0},true,1,"157b",{"$f":"IF(AG13=L57,1,0)","v":0},true,2,"135a",{"$f":"IF(AA16:AA16=P57,2,0)","v":0},true,2,"164a",{"$f":"IF(AF20=T57,2,0)","v":0},true,1,"170b",{"$f":"IF(AG28=X57,1,0)","v":0},true,2,"173a",{"$f":"IF(AF32=AB57,2,0)","v":0},true,null,null,null,null,2,"155a",{"$f":"IF(AF10=AJ57,2,0)","v":0},true,2,"185a",{"$f":"IF(AK16=AN57,2,0)","v":0},true,2,"163a",{"$f":"IF(AF20=AR57,2,0)","v":0},true,2,"140a",{"$f":"IF(AA22=AV57,2,0)","v":0},true,2,"119a",{"$f":"IF(V27=AZ57,2,0)","v":0},true,2,"171a",{"$f":"IF(AF30=BD57,2,0)","v":0},true,2,"149a",{"$f":"IF(AA33=BH57,2,0)","v":0},true,2,"167A",{"$f":"IF(AF13=BL57,2,0)","v":0},true]
[1,"176b",{"$f":"IF(AL6=D58,1,0)","v":0},true,2,"129c",{"$f":"IF(AC9=H58,2,0)","v":0},true,2,"157c",{"$f":"IF(AH13=L58,2,0)","v":0},true,1,"135b",{"$f":"IF(AB16=P58,1,0)","v":0},true,1,"164b",{"$f":"IF(AG21=T58,1,0)","v":0},true,2,"170c",{"$f":"IF(AH28=X58,2,0)","v":0},true,1,"173b",{"$f":"IF(AG32=AB58,1,0)","v":0},true,null,null,null,null,1,"155b",{"$f":"IF(AG10=AJ58,1,0)","v":0},true,1,"185b",{"$f":"IF(AL16=AN58,1,0)","v":0},true,1,"163b",{"$f":"IF(AG20=AR58,1,0)","v":0},true,1,"140b",{"$f":"IF(AB22=AV58,1,0)","v":0},true,1,"119b",{"$f":"IF(W27=AZ58,1,0)","v":0},true,1,"171b",{"$f":"IF(AG30=BD58,1,0)","v":0},true,1,"149b",{"$f":"IF(AB33=BH58,1,0)","v":0},true,1,"157B",{"$f":"IF(AG13=BL58,1,0)","v":0},true]
[null,"Valor A",{"$f":"SUM(C39:C58)","v":0},{"$f":"IF(B63=2,LOOKUP(C59,C67:D76,B67:B76),LOOKUP(C59,C79:D88,B79:B88))","v":1},2,"130a",{"$f":"IF(AA10=H59,2,0)","v":0},true,1,"158b",{"$f":"IF(AG14=L59,1,0)","v":0},true,2,"136a",{"$f":"IF(AA18=P59,2,0)","v":0},true,null,{"$f":"Q37","v":"Factor L"},{"$f":"SUM(S39:S58)","v":0},{"$f":"IF(B62=2,LOOKUP(S59,S67:T76,R67:R76),LOOKUP(S59,S79:T88,R79:R88))","v":1},null,{"$f":"U37","v":"Factor Q1"},{"$f":"SUM(W39:W58)","v":0},{"$f":"IF(B62=2,LOOKUP(W59,W67:X76,V67:V76),LOOKUP(W59,W79:X88,V79:V88))","v":1},null,{"$f":"Y37","v":"Factor Q3"},{"$f":"SUM(AA39:AA58)","v":0},{"$f":"IF(B62=2,LOOKUP(AA59,AA67:AB76,Z67:Z76),LOOKUP(AA59,AA79:AB88,Z79:Z88))","v":1},null,"Factor B",{"$f":"AE52","v":0},{"$f":"IF(B62=2,LOOKUP(AE59,AE67:AF76,AD67:AD76),LOOKUP(AE59,AE79:AF88,AD79:AD88))","v":1},2,"156a",{"$f":"IF(AF12=AJ59,2,0)","v":0},true,null,{"$f":"AK37","v":"Factor G"},{"$f":"SUM(AM39:AM58)","v":0},{"$f":"IF(B62=2,LOOKUP(AM59,AM67:AN76,AL67:AL76),LOOKUP(AM59,AM79:AN88,AL79:AL88))","v":1},null,{"$f":"AO37","v":"Factor I"},{"$f":"SUM(AQ39:AQ58)","v":0},{"$f":"IF(B62=2,LOOKUP(AQ59,AQ67:AR76,AP67:AP76),LOOKUP(AQ59,AQ79:AR88,AP79:AP88))","v":1},1,"141b",{"$f":"IF(AB24=AV59,1,0)","v":0},true,2,"143a",{"$f":"IF(AA26=AZ59,2,0)","v":0},true,null,{"$f":"BA37","v":"Factor Q2"},{"$f":"SUM(BC39:BC58)","v":0},{"$f":"IF(B6=2,LOOKUP(BC59,BC67:BD76,BB67:BB76),LOOKUP(BC59,BC79:BD88,BB79:BB88))","v":1},1,"150b",{"$f":"IF(AB34=BH59,1,0)","v":0},true,null,{"$f":"BI37","v":"Factor N"},{"$f":"SUM(BK39:BK58)","v":0},{"$f":"IF(B62=2,LOOKUP(BK59,BK67:BL76,BJ67:BJ76),LOOKUP(BK59,BK79:BL88,BJ79:BJ88))","v":1}]
[null,null,null,null,1,"130b",{"$f":"IF(AB10=H60,1,0)","v":0},true,2,"158c",{"$f":"IF(AH14=L60,2,0)","v":0},true,1,"136b",{"$f":"IF(AB18=P60,1,0)","v":0},true,null,null,null,null,null,null,null,null,null,null,null,null,null,null,null,null,1,"156b",{"$f":"IF(AG12=AJ60,1,0)","v":0},true,null,null,null,null,null,null,null,null,2,"141c",{"$f":"IF(AC24=AV60,2,0)","v":0},true,1,"143b",{"$f":"IF(AB26=AZ60,1,0)","v":0},true,null,null,null,null,2,"150c",{"$f":"IF(AC34=BH60,2,0)","v":0},true]
[null,null,null,null,1,"154B",{"$f":"IF(AG9=H61,1,0)","v":0},true,2,"182a",{"$f":"IF(AK13=L61,2,0)","v":0},true,1,"161b",{"$f":"IF(AG18=P61,1,0)","v":0},true,null,null,null,null,null,null,null,null,null,null,null,null,null,null,null,null,2,"180a",{"$f":"IF(AK10=AJ61,2,0)","v":0},true,null,null,null,null,null,null,null,null,1,"165b",{"$f":"IF(AG12=AV61,1,0)","v":0},true,1,"144b",{"$f":"IF(AB27=AZ61,1,0)","v":0},true,null,null,null,null,2,"174a",{"$f":"IF(AF33=BH61,2,0)","v":0},true]
[null,2,"H1",null,2,"154C",{"$f":"IF(AH9=H62,2,0)","v":0},true,1,"182b",{"$f":"IF(AL13=L62,1,0)","v":0},true,2,"161c",{"$f":"IF(AH18=P62,2,0)","v":0},true,null,null,null,null,null,null,null,null,null,null,null,null,null,null,null,null,1,"180b",{"$f":"IF(AL10=AJ62,1,0)","v":0},true,null,null,null,null,null,null,null,null,2,"165c",{"$f":"IF(AH12=AV62,2,0)","v":0},true,2,"144c",{"$f":"IF(AC27=AZ62,2,0)","v":0},true,null,null,null,null,1,"174b",{"$f":"IF(AG33=BH62,1,0)","v":0},true]
[null,null,"M2",null,2,"179a",{"$f":"IF(AK9=H63,2,0)","v":0},true,2,"183a",{"$f":"IF(AK14=L63,2,0)","v":0},true,2,"186a",{"$f":"IF(AK18=P63,2,0)","v":0},true,null,null,null,null,null,null,null,null,null,null,null,null,null,null,null,null,2,"181a",{"$f":"IF(AK12=AJ63,2,0)","v":0},true,null,null,null,null,null,null,null,null,1,"166b",{"$f":"IF(AG24=AV63,1,0)","v":0},true,1,"168B",{"$f":"IF(AG26=AZ63,1,0)","v":0},true,null,null,null,null,1,"175b",{"$f":"IF(AG34=BH63,1,0)","v":0},true]
[null,null,null,null,1,"179b",{"$f":"IF(AL9=H64,1,0)","v":0},true,1,"183b",{"$f":"IF(AL14:AL14=L64,1,0)","v":0},true,1,"186b",{"$f":"IF(AL18=P64,1,0)","v":0},true,null,null,null,null,null,null,null,null,null,null,null,null,null,null,null,null,1,"181b",{"$f":"IF(AL12=AJ64,1,0)","v":0},true,null,null,null,null,null,null,null,null,2,"166c",{"$f":"IF(AH24=AV64,2,0)","v":0},true,2,"168C",{"$f":"IF(AH26=AZ64,2,0)","v":0},true,null,null,null,null,2,"175c",{"$f":"IF(AH34=BH64,2,0)","v":0},true]
[null,"factor a",null,null,null,"VALOR C",{"$f":"SUM(G39:G64)","v":0},{"$f":"IF(B62=2,LOOKUP(G65,F67:G76,E67:E76),LOOKUP(G65,F79:G88,E79:E88))","v":1},null,"VALOR F",{"$f":"SUM(K39:K64)","v":0},{"$f":"IF(B62=2,LOOKUP(K65,J67:K76,I67:I76),LOOKUP(K65,J79:K88,I79:I88))","v":1},null,{"$f":"M37","v":"Factor H"},{"$f":"SUM(O39:O64)","v":0},{"$f":"IF(B62=2,LOOKUP(O65,N67:O76,M67:M76),LOOKUP(O65,N79:O88,M79:M88))","v":1},null,null,null,null,null,null,null,null,null,null,null,null,null,null,null,null,null,{"$f":"AG37","v":"Factor E"},{"$f":"SUM(AI39:AI64)","v":0},{"$f":"IF(B62=2,LOOKUP(AI65,AH67:AI76,AG67:AG76),LOOKUP(AI65,AH79:AI88,AG79:AG88))","v":1},null,null,null,null,null,null,null,null,null,{"$f":"AS37","v":"Factor M"},{"$f":"SUM(AU39:AU64)","v":0},{"$f":"IF(B62=2,LOOKUP(AU65,AT67:AU76,AS67:AS76),LOOKUP(AU65,AT79:AU88,AS79:AS88))","v":1},null,{"$f":"AW37","v":"Factor O"},{"$f":"SUM(AY39:AY64)","v":0},{"$f":"IF(B62=2,LOOKUP(AY65,AX67:AY76,AW67:AW76),LOOKUP(AY65,AX79:AY88,AW79:AW88))","v":1},null,null,null,null,null,{"$f":"BE37","v":"Factor Q4"},{"$f":"SUM(BG39:BG64)","v":0},{"$f":"IF(B62=2,LOOKUP(BG65,BF67:BG76,BE67:BE76),LOOKUP(BG65,BF79:BG88,BE79:BE88))","v":1}]
[null,"MUJER",null,null,"MUJER",null,null,null,"MUJER",null,null,null,"MUJER",null,null,null,null,"MUJER",null,null,null,"MUJER",null,null,null,"MUJER",null,null,null,"MUJER",null,null,"MUJER",null,null,null,null,"MUJER",null,null,null,"MUJER",null,null,"MUJER",null,null,null,"MUJER",null,null,null,null,"MUJER",null,null,"MUJER",null,null,null,null,"MUJER"]
[null,1,0,5,1,0,12,null,1,0,3,null,1,0,5,null,null,1,0,4,null,1,0,3,null,1,0,4,null,1,0,2,1,0,4,null,null,1,0,7,null,1,0,3,1,0,6,null,1,0,2,null,null,1,0,5,1,0,2,null,null,1,0,5]
[null,{"$f":"B67+1","v":2},6,6,{"$f":"E67+1","v":2},13,13,null,{"$f":"I67+1","v":2},4,6,null,{"$f":"M67+1","v":2},6,7,null,null,{"$f":"R67+1","v":2},5,5,null,{"$f":"V67+1","v":2},4,5,null,{"$f":"Z67+1","v":2},5,6,null,{"$f":"AD67+1","v":2},3,3,{"$f":"AG67+1","v":2},5,5,null,null,{"$f":"AL67+1","v":2},8,8,null,{"$f":"AP67+1","v":2},4,5,{"$f":"AS67+1","v":2},7,8,null,{"$f":"AW67+1","v":2},3,3,null,null,{"$f":"BB67+1","v":2},6,6,{"$f":"BE67+1","v":2},3,3,null,null,{"$f":"BJ67+1","v":2},6,7]
[null,{"$f":"B68+1","v":3},7,8,{"$f":"E68+1","v":3},14,14,null,{"$f":"I68+1","v":3},7,8,null,{"$f":"M68+1","v":3},8,9,null,null,{"$f":"R68+1","v":3},6,6,null,{"$f":"V68+1","v":3},6,7,null,{"$f":"Z68+1","v":3},7,9,null,{"$f":"AD68+1","v":3},4,4,{"$f":"AG68+1","v":3},6,6,null,null,{"$f":"AL68+1","v":3},9,9,null,{"$f":"AP68+1","v":3},6,6,{"$f":"AS68+1","v":3},9,9,null,{"$f":"AW68+1","v":3},4,5,null,null,{"$f":"BB68+1","v":3},7,8,{"$f":"BE68+1","v":3},4,4,null,null,{"$f":"BJ68+1","v":3},8,8]
[null,4,9,9,4,15,17,null,4,9,10,null,4,10,12,null,null,4,7,7,null,4,8,9,null,4,10,11,null,4,5,5,4,7,8,null,null,4,10,11,null,4,7,7,4,10,10,null,4,6,8,null,null,4,9,9,4,5,6,null,null,4,9,9]
[null,5,10,11,5,18,19,null,5,11,12,null,5,13,14,null,null,5,8,8,null,5,10,11,null,5,12,12,null,5,6,7,5,9,10,null,null,5,12,13,null,5,8,10,5,11,13,null,5,9,10,null,null,5,10,11,5,7,8,null,null,5,10,10]
[null,6,12,12,6,20,20,null,6,13,14,null,6,15,16,null,null,6,9,10,null,6,12,12,null,6,13,15,null,6,8,8,6,11,12,null,null,6,14,15,null,6,11,12,6,14,15,null,6,11,11,null,null,6,12,12,6,9,10,null,null,6,11,12]
[null,7,13,13,7,21,22,null,7,15,16,null,7,17,20,null,null,7,11,11,null,7,13,14,null,7,16,16,null,7,9,9,7,13,14,null,null,7,16,16,null,7,13,14,7,16,16,null,7,12,13,null,null,7,13,14,7,11,12,null,null,7,13,13]
[null,8,14,14,8,23,23,null,8,17,17,null,8,21,23,null,null,8,12,13,null,8,15,15,null,8,17,17,null,8,10,10,8,15,16,null,null,8,17,17,null,8,15,15,8,17,18,null,8,14,14,null,null,8,15,16,8,13,15,null,null,8,14,14]
[null,9,15,15,9,24,25,null,9,18,21,null,9,24,24,null,null,9,14,14,null,9,16,16,null,9,19,19,null,9,11,11,9,17,17,null,null,9,18,18,null,9,16,16,9,19,20,null,9,15,16,null,null,9,17,17,9,16,17,null,null,9,15,15]
[null,10,16,20,10,26,26,null,10,22,26,null,10,25,26,null,null,10,15,20,null,10,17,20,null,10,19,20,null,10,12,13,10,18,26,null,null,10,19,20,null,10,17,20,10,21,26,null,10,17,26,null,null,10,18,20,10,18,26,null,null,10,16,20]
[]
[null,"HOMBRE",null,null,"HOMBRE",null,null,null,"HOMBRE",null,null,null,"HOMBRE",null,null,null,null,"HOMBRE",null,null,null,"HOMBRE",null,null,null,"HOMBRE",null,null,null,"HOMBRE",null,null,"HOMBRE",null,null,null,null,"HOMBRE",null,null,null,"HOMBRE",null,null,"HOMBRE",null,null,null,"HOMBRE",null,null,null,null,"HOMBRE",null,null,"HOMBRE",null,null,null,null,"HOMBRE"]
[null,1,0,3,1,0,9,null,1,0,4,null,1,0,6,null,null,1,0,2,null,1,0,4,null,1,0,5,null,1,0,1,1,0,5,null,null,1,0,8,null,1,0,1,1,0,6,null,1,0,3,null,null,1,0,3,1,0,1,null,null,1,0,5]
[null,2,4,5,2,10,12,null,2,5,6,null,2,7,7,null,null,2,3,3,null,2,5,6,null,2,6,8,null,2,2,2,2,6,6,null,null,2,9,9,null,2,2,3,2,7,7,null,2,4,5,null,null,2,4,5,2,2,2,null,null,2,6,6]
[null,3,6,7,3,13,14,null,3,7,8,null,3,8,10,null,null,3,4,5,null,3,7,7,null,3,9,10,null,3,3,4,3,7,7,null,null,3,10,11,null,3,4,4,3,8,9,null,3,6,6,null,null,3,6,7,3,3,3,null,null,3,7,8]
[null,4,8,8,4,15,17,null,4,9,10,null,4,11,13,null,null,4,6,7,null,4,8,9,null,4,11,12,null,4,5,5,4,8,9,null,null,4,12,12,null,4,5,5,4,10,10,null,4,7,7,null,null,4,8,8,4,4,5,null,null,4,9,10]
[null,5,9,10,5,18,19,null,5,11,13,null,5,14,17,null,null,5,8,9,null,5,10,10,null,5,13,13,null,5,6,6,5,10,11,null,null,5,13,14,null,5,6,7,5,11,12,null,5,8,10,null,null,5,9,10,5,6,7,null,null,5,11,11]
[null,6,11,12,6,20,21,null,6,14,15,null,6,18,19,null,null,6,10,10,null,6,11,12,null,6,14,15,null,6,7,7,6,12,13,null,null,6,15,16,null,6,8,9,6,13,14,null,6,11,11,null,null,6,11,12,6,8,9,null,null,6,12,12]
[null,7,13,13,7,22,23,null,7,16,17,null,7,20,22,null,null,7,11,12,null,7,13,14,null,7,16,16,null,7,8,8,7,14,15,null,null,7,17,17,null,7,10,10,7,15,16,null,7,12,14,null,null,7,13,13,7,10,11,null,null,7,13,14]
[null,8,14,15,8,24,24,null,8,18,20,null,8,23,24,null,null,8,13,14,null,8,15,15,null,8,17,17,null,8,8,8,8,16,18,null,null,8,18,18,null,8,11,12,8,17,17,null,8,15,16,null,null,8,14,15,8,12,13,null,null,8,15,15]
[null,9,16,16,9,25,25,null,9,21,22,null,9,25,25,null,null,9,15,15,null,9,16,16,null,9,18,18,null,9,9,9,9,19,20,null,null,9,19,19,null,9,13,13,9,18,18,null,9,17,19,null,null,9,16,17,9,14,16,null,null,9,16,17]
[null,10,17,20,10,26,26,null,10,23,26,null,10,26,26,null,null,10,16,20,null,10,17,20,null,10,19,20,null,10,10,13,10,21,26,null,null,10,20,20,null,10,14,20,10,19,26,null,10,20,26,null,null,10,18,20,10,17,26,null,null,10,18,20]

{"sheet":"Resultados","index":3,"n_rows":20,"n_cols":6,"rows_kept":20,"cut":false,"hidden":false,"merged":[[2,4,2,5]]}
[]
[]
[null,null,null,null,"RESULTADOS"]
[null,null,null,null,"FACTOR","VALOR"]
[null,null,null,1,"A",{"$f":"matriz!D59","v":1}]
[null,null,null,{"$f":"D5+1","v":2},"B",{"$f":"matriz!AF59","v":1}]
[null,null,null,{"$f":"D6+1","v":3},"C",{"$f":"matriz!H65","v":1}]
[null,null,null,4,"E",{"$f":"matriz!AJ65","v":1}]
[null,null,null,5,"F  ",{"$f":"matriz!L65","v":1}]
[null,null,null,6,"G",{"$f":"matriz!AN59","v":1}]
[null,null,null,7,"H",{"$f":"matriz!P65","v":1}]
[null,null,null,8,"I",{"$f":"matriz!AR59","v":1}]
[null,null,null,9,"L",{"$f":"matriz!T59","v":1}]
[null,null,null,10,"M",{"$f":"matriz!AV65","v":1}]
[null,null,null,11,"N",{"$f":"matriz!BL59","v":1}]
[null,null,null,12,"O",{"$f":"matriz!AZ65","v":1}]
[null,null,null,13,"Q1",{"$f":"matriz!X59","v":1}]
[null,null,null,14,"Q2",{"$f":"matriz!BD59","v":1}]
[null,null,null,15,"Q3",{"$f":"matriz!AB59","v":1}]
[null,null,null,16,"Q4",{"$f":"matriz!BH65","v":1}]